BEGIN:VCALENDAR
VERSION:2.0
PRODID:nkc_event TYPO3 Extension
METHOD:PUBLISH
BEGIN:VEVENT
UID:605fdce3212c97e60de6d5d67fb4db9a
LOCATION:Ev.-Luth. Kirchengemeinde Marschlande
SUMMARY:Sitzung des Kirchengemeinderats
DESCRIPTION:
CLASS:PUBLIC
DTSTART:20260611T170000Z
DTEND:20260611T180000Z
DTSTAMP:20260425T112035Z
END:VEVENT

END:VCALENDAR