BEGIN:VCALENDAR
VERSION:2.0
PRODID:nkc_event TYPO3 Extension
METHOD:PUBLISH
BEGIN:VEVENT
UID:470b49484de09cdbd6d620138c92a741
LOCATION:Gemeindehaus II
SUMMARY:ABENTEUERLAND
DESCRIPTION:
CLASS:PUBLIC
DTSTART:20260619T133000Z
DTEND:20260619T143000Z
DTSTAMP:20260425T112218Z
END:VEVENT

END:VCALENDAR