BEGIN:VCALENDAR
VERSION:2.0
PRODID:nkc_event TYPO3 Extension
METHOD:PUBLISH
BEGIN:VEVENT
UID:b5bd4aae991bacbbdada060ee5afd6e1
LOCATION:St. Jürgen-Kirche
SUMMARY:Gottesdienst in der St. Jürgen-Kirche
DESCRIPTION:
CLASS:PUBLIC
DTSTART:20260510T083000Z
DTEND:20260510T093000Z
DTSTAMP:20260425T222023Z
END:VEVENT

END:VCALENDAR