BEGIN:VCALENDAR
VERSION:2.0
PRODID:nkc_event TYPO3 Extension
METHOD:PUBLISH
BEGIN:VEVENT
UID:4ca0abea3533ffbe5d3e5f82b190e2e5
LOCATION:Andreaskirche
SUMMARY:Jugend-Gottesdienst
DESCRIPTION:
CLASS:PUBLIC
DTSTART:20260424T170000Z
DTEND:20260424T180000Z
DTSTAMP:20260422T123309Z
END:VEVENT

END:VCALENDAR