BEGIN:VCALENDAR
VERSION:2.0
PRODID:nkc_event TYPO3 Extension
METHOD:PUBLISH
BEGIN:VEVENT
UID:180c9a31ea77997f5df134364c64d49b
LOCATION:https://www.youtube.com/channel/UCBo-WkPXb_39N1EjFLh9n1A
SUMMARY:Gottesdienst\, in der Kirche und auf YouTube
DESCRIPTION:Alle sind herzlich eingeladen\, mit uns Gottesdienst  zu feiern
CLASS:PUBLIC
DTSTART:20260621T080000Z
DTEND:20260621T090000Z
DTSTAMP:20260425T210214Z
END:VEVENT

END:VCALENDAR