BEGIN:VCALENDAR
VERSION:2.0
PRODID:nkc_event TYPO3 Extension
METHOD:PUBLISH
BEGIN:VEVENT
UID:337fd5f819c567525ee5be6dda40afbb
LOCATION:Bethlehem-Kirche
SUMMARY:Shanty-Chor LUV & LEE e.V. von 1989
DESCRIPTION:Der Shanty-Chor LUV & LEE e. V. singt „Leeder & Döntjes vun de Waterkant un de wiede See“. Eintritt frei\, Spende erbeten
CLASS:PUBLIC
DTSTART:20260530T140000Z
DTEND:20260530T150000Z
DTSTAMP:20260419T234751Z
END:VEVENT

END:VCALENDAR