BEGIN:VCALENDAR
VERSION:2.0
PRODID:nkc_event TYPO3 Extension
METHOD:PUBLISH
BEGIN:VEVENT
UID:ea2aca514f127655a230815034e9e2be
LOCATION:Vorm Café Zeitlos
SUMMARY:Ökumenischer Gottesdienst
DESCRIPTION:mit dem ökumenischem Team und Gospelchor
CLASS:PUBLIC
DTSTART:20260525T090000Z
DTEND:20260525T100000Z
DTSTAMP:20260422T123440Z
END:VEVENT

END:VCALENDAR