BEGIN:VCALENDAR
VERSION:2.0
PRODID:nkc_event TYPO3 Extension
METHOD:PUBLISH
BEGIN:VEVENT
UID:8bdda5e54fec9ca3eb3f87b60b0acb33
LOCATION:St. Michael
SUMMARY:Praxisworkshop":" Mit Andersdenkenden reden lernen
DESCRIPTION:Die Fronten zwischen Menschen\, die verschiedene Weltanschauungen vertreten\, sind zunehmend verhärtet. Immer häufiger gilt es\, sich im gesellschaftlichen Diskurs mit den Standpunkten Andersdenkender auseinanderzusetzen. Im Seminar lernen die Teilnehmenden anhand praktischer Übungen\, souverän auf Äußerungen und Argumente zu reagieren\, die sie nicht teilen können - und dabei im Gespräch zu bleiben. Wir trainieren unterschiedliche Strategien\, die dabei helfen\, Menschen im persönlichen Gespräch und im öffentlichen Raum souverän und konstruktiv zu begegnen. Wir wenden diese Techniken direkt auf aktuelle Beispiele und Alltagssituationen an.Der Praxisworkshop konzentriert sich nach kurzer theoretischer Einführung schwerpunktmäßig auf das Einüben der jeweiligen Gesprächstechniken. Er richtet sich sowohl an Personen\, die noch nicht mit dem Thema zu tun hatten als auch an solche\, die bereits einen oder mehrere unserer Workshops „Mit Andersdenkenden reden lernen“ besucht haben.TERMINE":" Samstag\, 21. März 2026Samstag\, 26.September 2026Samstag\, 7. November 2026jeweils von 9.30 bis 14.00 UhrFür Getränke\, Snacks und einen kleinen Mittagsimbiss ist gesorgt.Veranstaltungsort":"St. Michael Kirche\, Gemeindesaal Am Ochsenmarkt 4024937 FlensburgEinige Parkplätze sind an der Kirche vorhanden. Vom Bahnhof ist die Jugendkirche wie folgt zu erreichen":" Mit der Linie 1 bis zur „Angelburger Straße“\, dort umsteigen (Straßenseitenwechsel) und entweder die Linie 2 oder 10 bis zur Station „Am Ochsenmarkt“ nehmen. Von dort ist es nur noch ein kleines Stück zu Fuß.Anmeldungen per Email an":"mareike.brombacher@kirche-slfl.deAnmeldeschluss":"Jeweils eine Woche vor dem Veranstaltungstermin. Falls Sie sich kurzfristig anmelden möchten\, fragen Sie bitte Mareike Brombacher\, ob es noch freie Plätze gibt. Teilnahmegebühren":" keineDie Teilnehmendenzahl ist beschränkt.Hinweis zum Datenschutz":"Ihre Anmeldedaten werden nur zu Anmeldezwecken und für die Durchführung der Veranstaltung gespeichert und nicht weitergegeben.Wir freuen uns auf alle\, die mit uns üben möchten! ":"-)Veranstalterinnen":" Mareike BrombacherReferentin für Erwachsenenbildungim Kirchenkreis Schleswig-FlensburgWassermühlenstr.12\, 24376 KappelnTel.":" 04642-9111-17E-Mail":" mareike.brombacher@kirche-slfl.deJohanna BührKoordinierungsstelle für Integrationu. Teilhabe (KIT)Zentrale Einheit Schutz-Integration-Teilhabe (ZE SIT) der Stadt FlensburgTel.":" 0461-854589E-Mail":" buehr.johanna@flensburg.de
CLASS:PUBLIC
DTSTART:20260926T073000Z
DTEND:20260926T120000Z
DTSTAMP:20260425T112143Z
END:VEVENT

END:VCALENDAR