BEGIN:VCALENDAR
VERSION:2.0
PRODID:nkc_event TYPO3 Extension
METHOD:PUBLISH
BEGIN:VEVENT
UID:20ba926368c043ec3d8b1e7078e32d34
LOCATION:St. Laurentius-Kirche zu Munkbrarup
SUMMARY:Regionalgottesdienst der Förderegion - Vesper mit Malte Wienhues (HH)\, Matthias Schmidt u. Pastorin Sabrina Biehl
DESCRIPTION:
CLASS:PUBLIC
DTSTART:20260607T160000Z
DTEND:20260607T170000Z
DTSTAMP:20260426T021946Z
END:VEVENT

END:VCALENDAR