BEGIN:VCALENDAR
VERSION:2.0
PRODID:nkc_event TYPO3 Extension
METHOD:PUBLISH
BEGIN:VEVENT
UID:90d9570df039a4381435cd29ffff30ba
LOCATION:Ev.-Luth. Kirchengemeinde St. Martin Oelixdorf-Itzehoe
SUMMARY:Gottesdienst auf der Diele in Schlotfeld
DESCRIPTION:
CLASS:PUBLIC
DTSTART:20260614T080000Z
DTEND:20260614T090000Z
DTSTAMP:20260423T165243Z
END:VEVENT

END:VCALENDAR