BEGIN:VCALENDAR
VERSION:2.0
PRODID:nkc_event TYPO3 Extension
METHOD:PUBLISH
BEGIN:VEVENT
UID:1010023768a5570cb626b30e380ff666
LOCATION:Kompassgemeinde Kirche DQUOTEZum guten HirtenDQUOTE Pries
SUMMARY:Gemeindeversammlung
DESCRIPTION:Der Kirchengemeinderat lädt herzlich zur Gemeindeversammlung am Sonntag\, den 26. April\, nach dem10-Uhr-Gottesdienst in der Kirche „Zum Guten Hirten“ in Pries-Friedrichsort\, Friedrichsorter Straße 22 in 24159 Kiel ein.TagesordnungBeginn ca. 11":"00 Uhr\nBericht aus der Gemeinde\nFragen und Anregungen aus der Gemeinde\n\nVerabschiedung und Segen\nIhr Kirchengemeinderat\n\nIm Anschluss an die Gemeindeversammlung geht das Fest weiter":" Dann sind alle ehrenamtlich Tätigen zu einem Ehrenamtsfest vor der Kirche eingeladen. Mit Speis und Trank möchte der Kirchengemeinderat seinen Dank und seine Wertschätzung ausdrücken und zugleich die Möglichkeit für Gespräche und ein besseres Kennenlernen bieten.Der Kirchengemeinderat freut sich auf alle\, die am Gottesdienst\, der Gemeindeversammlung und dem Ehrenamtsfest teilnehmen!
CLASS:PUBLIC
DTSTART:20260426T090000Z
DTEND:20260426T100000Z
DTSTAMP:20260422T140700Z
END:VEVENT

END:VCALENDAR