BEGIN:VCALENDAR
VERSION:2.0
PRODID:nkc_event TYPO3 Extension
METHOD:PUBLISH
BEGIN:VEVENT
UID:62bf7335e33098f08f8d300514851316
LOCATION:St. Jürgen-Kirche
SUMMARY:Konfirmationsgottesdienst in der St. Jürgen-Kirche mit Heiligem Abendmahl
DESCRIPTION:
CLASS:PUBLIC
DTSTART:20260503T083000Z
DTEND:20260503T093000Z
DTSTAMP:20260425T221558Z
END:VEVENT

END:VCALENDAR