BEGIN:VCALENDAR
VERSION:2.0
PRODID:nkc_event TYPO3 Extension
METHOD:PUBLISH
BEGIN:VEVENT
UID:6fc41d1acde111d4b7088fb84f5108c4
LOCATION:Martin-Luther-Kirche
SUMMARY:Konzert der Internationalen evangelisch-reformierten Gemeinde in Hamburg
DESCRIPTION:Instrumental- und Chormusik von Gabriel Fauré\, Johannes Brahms und Claudio Monteverdi stehen auf dem Programm des Ensembles der internationalen evangelisch-reformierten Gemeinde. Zu hören ist unter anderem unsere Kinderchorleiterin Petra Tjandra.
CLASS:PUBLIC
DTSTART:20260530T160000Z
DTEND:20260530T170000Z
DTSTAMP:20260423T074730Z
END:VEVENT

END:VCALENDAR