BEGIN:VCALENDAR
VERSION:2.0
PRODID:nkc_event TYPO3 Extension
METHOD:PUBLISH
BEGIN:VEVENT
UID:5e5ea8df8ea78f373734245aa243c81a
LOCATION:St. Anna
SUMMARY:Hl. Messe
DESCRIPTION:
CLASS:PUBLIC
DTSTART:20260428T070000Z
DTEND:20260428T080000Z
DTSTAMP:20260423T141801Z
END:VEVENT

END:VCALENDAR