BEGIN:VCALENDAR
VERSION:2.0
PRODID:nkc_event TYPO3 Extension
METHOD:PUBLISH
BEGIN:VEVENT
UID:f9846811a871b28192f7470129d310e7
LOCATION:St.-Laurentius-Kirche Schönberg
SUMMARY:40. Schönberger Musiksommer - Eröffnungskonzert":" BachWerkVokal Salzburg
DESCRIPTION:40. Schönberger Musiksommer – welche Erwartungen haben wir\, wenn wir diese Jubiläumssaison angehen? Auf welche Weise kann sie am besten\, schönsten\, festlichsten\, wirksamsten eröffnet werden?Mit dem Salzburger BachWerkVokal unter Leitung von Gordon Safari haben wir die Antwort gefunden! Bach ist von Anfang an ein Markenzeichen des Schönberger Musiksommers\, der sich aus der reichen kirchenmusikalische Tradition der St.-Laurentiuskirche speist. Und dass dabei den Genregrenzen überschritten werden\, ist ebenso ein selbstverständliches Element der nun vier Jahrzehnte währenden Reihe. So wird im Programm „Bach tanzt“ die Musik Bachs nicht nur hörbar\, sondern auch sichtbar\, und die besondere Atmosphäre der „samtblauen Nächte“\, wie wir sie um Mittsommer in Schönberg haben\, setzt ihren eigenen Akzent und lässt die Musik besonders intensiv erleben.Das seit über 10 Jahren bestehende BachWerkVokal Salzburg zeichnet sich dadurch aus\, dass es gemäß der barocken Praxis die Grenzen zwischen „Soli“ und „tutti“ aufhebt und einen äußerst transparenten Spund kreiert\, der höchste Ausdruckskraft mit Deutlichkeit verbindet. Das Ensemble agiert flexibel in unterschiedlichen Besetzungsgrößen. In der Aufführungspraxis der Historie verpflichtet\, in Art der Konzertformate ganz in unserer Zeit sich bewegend – so entstehen auf den konkreten Raum und Anlass maßgeschneiderte Darbietungen – nun zur großen Freude auch in der mittelalterlichen Bischofskirche\, der angestammten Spielstätte zur Eröffnung des 40. Schönberger Musiksommers\; ein Abend\, den man sich nicht entgehen lassen sollte!
CLASS:PUBLIC
DTSTART:20260623T180000Z
DTEND:20260623T190000Z
DTSTAMP:20260419T144317Z
END:VEVENT

END:VCALENDAR