BEGIN:VCALENDAR
VERSION:2.0
PRODID:nkc_event TYPO3 Extension
METHOD:PUBLISH
BEGIN:VEVENT
UID:c3a78b39754a21d56452dd2c6a2e07fc
LOCATION:Schlei-Ufer
SUMMARY:Gottesdienst am Pfingstmontag an der Schlei\, Pastorin Susanna Kschamer
DESCRIPTION:
CLASS:PUBLIC
DTSTART:20260525T080000Z
DTEND:20260525T090000Z
DTSTAMP:20260426T032703Z
END:VEVENT

END:VCALENDAR