BEGIN:VCALENDAR
VERSION:2.0
PRODID:nkc_event TYPO3 Extension
METHOD:PUBLISH
BEGIN:VEVENT
UID:9d25bf2bb86fb54fd8dc8c29671bfba3
LOCATION:Ev.-Luth. Thomas-Kirchengemeinde Kiel-Mettenhof
SUMMARY:Gottesdienst
DESCRIPTION:
CLASS:PUBLIC
DTSTART:20260531T090000Z
DTEND:20260531T100000Z
DTSTAMP:20260422T013838Z
END:VEVENT

END:VCALENDAR