BEGIN:VCALENDAR
VERSION:2.0
PRODID:nkc_event TYPO3 Extension
METHOD:PUBLISH
BEGIN:VEVENT
UID:a43939cbd9f3162c84ff0e5e7c00180f
LOCATION:Ev.-Luth. St. Katharinen-Kirchengemeinde zu Probsteierhagen
SUMMARY:Gottesdienst im CHH mit Pastor Müller
DESCRIPTION:
CLASS:PUBLIC
DTSTART:20250525T143000Z
DTEND:20250525T153000Z
DTSTAMP:20260423T085404Z
END:VEVENT

END:VCALENDAR