BEGIN:VCALENDAR
VERSION:2.0
PRODID:nkc_event TYPO3 Extension
METHOD:PUBLISH
BEGIN:VEVENT
UID:9f5e67a8013443fc309e93a65d80fc1e
LOCATION:Kirche St. Johannis zu Hamburg-Eppendorf
SUMMARY:Nordische Klänge
DESCRIPTION:
CLASS:PUBLIC
DTSTART:20260502T160000Z
DTEND:20260502T170000Z
DTSTAMP:20260422T120931Z
END:VEVENT

END:VCALENDAR