BEGIN:VCALENDAR
VERSION:2.0
PRODID:nkc_event TYPO3 Extension
METHOD:PUBLISH
BEGIN:VEVENT
UID:ff22b54b412b6dbd639fe03e97509d37
LOCATION:Frauen\, Nachhaltigkeit und Engagement im Kirchenkreis Plön-Segeberg
SUMMARY:Jesus Christus queer gedacht
DESCRIPTION:Gott – Vater\, Sohn und Heiliger Geist? In den letzten Jahrzehnten haben gendersensible Theologien für inklusivere Ausdrucksformen für mindestens zwei Personen der Trinität gesorgt. So ist es keine Neuheit mehr\, vielfältige Gottesnamen zu verwenden und von der Heiligen Geistkraft zu reden. Nur bei Jesus Christus scheint diese gendersensible Neuorientierung eine unsichtbare Grenze zu erreichen mit der Prämisse\, dass Jesus aus Nazareth ein jüdischer Mann aus Galiläa des 1. Jahrhunderts n. d. Z. war. Diesen Zusammenhang möchte der Vortrag aus queertheologischer Perspektive beleuchten und exemplarisch schauen\, wie queere Theologien mit dem Topos der Gottessohnschaft umgehen.Referent*in":" Sonja Thomaier\, Universität HildesheimVeranstalterin":" Ev.-Luth. Frauenwerk Hamburg-West/SüdholsteinIm Rahmen der Online-Vortragsreihe G*tt\, Menschen und Welt – queer gedachtUnterstützt von":" Fachbereich Frauen des Evangelisch-Lutherischen Kirchenkreises Altholstein\, Ev. Bildungswerk Kirchenkreis Plön-Segeberg und Frauenwerk OstholsteinGefördert von":" Beauftragte für Geschlechtergerechtigkeit der Nordkirche
CLASS:PUBLIC
DTSTART:20260428T170000Z
DTEND:20260428T183000Z
DTSTAMP:20260420T200400Z
END:VEVENT

END:VCALENDAR