BEGIN:VCALENDAR
VERSION:2.0
PRODID:nkc_event TYPO3 Extension
METHOD:PUBLISH
BEGIN:VEVENT
UID:ae6dcf0b90ba7e4d32ae99fbf986593f
LOCATION:Ansgarhaus Busdorf
SUMMARY:Kochen in Gemeinschaft
DESCRIPTION:
CLASS:PUBLIC
DTSTART:20260604T150000Z
DTEND:20260604T160000Z
DTSTAMP:20260422T014841Z
END:VEVENT

END:VCALENDAR