BEGIN:VCALENDAR
VERSION:2.0
PRODID:nkc_event TYPO3 Extension
METHOD:PUBLISH
BEGIN:VEVENT
UID:d809572fb31c25967d826f4c1ab3db31
LOCATION:St. Marien
SUMMARY:Orgelpunkt 12
DESCRIPTION:Johannes Unger stellt die Totentanz-Orgel vor und spielt 30 Minuten Orgelmusik aus verschiedenen Jahrhunderten. 
CLASS:PUBLIC
DTSTART:20260729T100000Z
DTEND:20260729T110000Z
DTSTAMP:20260425T014157Z
END:VEVENT

END:VCALENDAR