BEGIN:VCALENDAR
VERSION:2.0
PRODID:nkc_event TYPO3 Extension
METHOD:PUBLISH
BEGIN:VEVENT
UID:7c759728d0c2dde7d0282d4bef0beb6b
LOCATION:St. Petri Kirche Sieverstedt
SUMMARY:Gottesdienst Sieverstedt
DESCRIPTION:
CLASS:PUBLIC
DTSTART:20260503T073000Z
DTEND:20260503T083000Z
DTSTAMP:20260425T125637Z
END:VEVENT

END:VCALENDAR