BEGIN:VCALENDAR
VERSION:2.0
PRODID:nkc_event TYPO3 Extension
METHOD:PUBLISH
BEGIN:VEVENT
UID:91c854674bfcfbc34848bce75c7351a0
LOCATION:St. Johannis - Kulturkirche Altona
SUMMARY:Sacred Sunday - Jazzgottesdienst
DESCRIPTION:
CLASS:PUBLIC
DTSTART:20260524T100000Z
DTEND:20260524T110000Z
DTSTAMP:20260421T193503Z
END:VEVENT

END:VCALENDAR