BEGIN:VCALENDAR
VERSION:2.0
PRODID:nkc_event TYPO3 Extension
METHOD:PUBLISH
BEGIN:VEVENT
UID:0dae25f2c90e9146e987719e469e97bd
LOCATION:St. Nicolai Quern
SUMMARY:Worte & Musik - Andacht
DESCRIPTION:Jeden Mittwoch um 18 Uhr gibt es unsere Mittwochsfreiluftandacht\, eine Andacht vor der Querner St. Nikolai Kirche mit Musik und geistlichen Impulsen zur Tageslosung.Herzlich willkommen!Susanne Nielsen
CLASS:PUBLIC
DTSTART:20260506T160000Z
DTEND:20260506T170000Z
DTSTAMP:20260424T104144Z
END:VEVENT

END:VCALENDAR