BEGIN:VCALENDAR
VERSION:2.0
PRODID:nkc_event TYPO3 Extension
METHOD:PUBLISH
BEGIN:VEVENT
UID:09a672e703317793fe0f98e113f29613
LOCATION:Ansgarhaus Busdorf
SUMMARY:Haddebyer Erzählcafé
DESCRIPTION:
CLASS:PUBLIC
DTSTART:20260508T130000Z
DTEND:20260508T140000Z
DTSTAMP:20260422T014653Z
END:VEVENT

END:VCALENDAR