BEGIN:VCALENDAR
VERSION:2.0
PRODID:nkc_event TYPO3 Extension
METHOD:PUBLISH
BEGIN:VEVENT
UID:08a8893fd371bba05316596a5e47a936
LOCATION:St.-Jürgen-Kirche Hohwacht
SUMMARY:Gottesdienst mit Abendmahl \, Pastorin Harms
DESCRIPTION:
CLASS:PUBLIC
DTSTART:20260524T090000Z
DTEND:20260524T100000Z
DTSTAMP:20260422T123427Z
END:VEVENT

END:VCALENDAR