BEGIN:VCALENDAR
VERSION:2.0
PRODID:nkc_event TYPO3 Extension
METHOD:PUBLISH
BEGIN:VEVENT
UID:26208f0042438ee62b269f4bc3b7f569
LOCATION:Estland und Lettland
SUMMARY:Open Horizon 2.0
DESCRIPTION:Du bist zwischen 18-27 Jahre alt und engagierst die ehrenamtlich in der Nordkirche? Du möchtest deinen kirchlichen Erfahrungshorizont erweitern? Dich aktiv für die Gestaltung einer zukunftsfähigen Kirche einbringen? Entdecken\, wie christlicher Glaube authentisch gelebt werden kann? Dann komm mit auf unsere Reise ins Baltikum.  Die Kirchen in Estland und Lettland sind durch Umbrüche und Veränderungen geprägt. Themen wie Ehrenamt\, Frieden und Gerechtigkeit sind zentral. Die Zukunft wird schon jetzt mitgedacht und gestaltet. Das wollen wir erleben und hören\, wie es jungen Menschen vor Ort geht\, die mit Zukunftsfragen konfrontiert werden.  Dafür reisen wir nach Riga und Tallinn\, besuchen Kirchengemeinden\, kommen ins Gespräch\, reflektieren und machen spannende Ausflüge in die Region.  Termine":"  11.05.2026 17":"30 erstes online Vorbereitungstreffen 04.07.2026":" 10":"00-16":"00 Präsentisches Treffen mit allen Mitreisenden 25.08. 18":"00 letztes Vorbereitungstreffen       Für Fragen melde dich bitte bei Charlotte Spingler (charlotte.spingler@junge.nordkirche.de) / Signal":" 01522 8489301 
CLASS:PUBLIC
DTSTART:20260906T080000Z
DTEND:20260913T190000Z
DTSTAMP:20260424T160431Z
END:VEVENT

END:VCALENDAR