BEGIN:VCALENDAR
VERSION:2.0
PRODID:nkc_event TYPO3 Extension
METHOD:PUBLISH
BEGIN:VEVENT
UID:60e67eb5d0d760e09fed4c905d5d710b
LOCATION:Emmauskirchengemeinde
SUMMARY:Christi Himmelfahrt in der Emmauskirchengemeinde  mit anschließendem Picknick
DESCRIPTION:14.5.2026 11.00 UhrEmmaus-KirchengemeindeKleiberweg 115\,22547 Hamburg\,mit den Kooperationspartnern der KirchengemeindenMaria Magdalena und Sülldorf/Iserbrook.Anschließend Picknick möglichst im Freien.Herzliche Einladung
CLASS:PUBLIC
DTSTART:20260514T090000Z
DTEND:20260514T100000Z
DTSTAMP:20260423T085343Z
END:VEVENT

END:VCALENDAR