BEGIN:VCALENDAR
VERSION:2.0
PRODID:nkc_event TYPO3 Extension
METHOD:PUBLISH
BEGIN:VEVENT
UID:c20253be14a0b24ad7c69edb05c71941
LOCATION:Dom zu Lübeck
SUMMARY:Morgenandacht
DESCRIPTION:Morgenandacht im Dom immer am Montag\, am Mittwoch und am Freitag um 7.30 Uhr.  Den Tag anders beginnen als mit dem Blick in den Terminkalender. Innehalten. Einen Psalm sprechen. Aufatmen. Ein Lied singen. Hören. Ein Moment Stille. Beten. Eine Kerze anzünden. Mit Segen gehen.  Die Morgenandacht dauert etwa 15 Minuten.  Herzlich willkommen!   
CLASS:PUBLIC
DTSTART:20260527T053000Z
DTEND:20260527T054500Z
DTSTAMP:20260422T104432Z
END:VEVENT

END:VCALENDAR