BEGIN:VCALENDAR
VERSION:2.0
PRODID:nkc_event TYPO3 Extension
METHOD:PUBLISH
BEGIN:VEVENT
UID:7889cc5c44cc630815aac3a5d8633fd2
LOCATION:St.-Laurentius-Kirche Schönberg
SUMMARY:40. Schönberger Musiksommer - „Dialoge in Silber“
DESCRIPTION:Die Flötenabende bereits in den 90er Jahren mit Simone Mentzen waren legendär. Wie kaum jemand verstand sie es\, auch ein unvorbereitetes Publikum mit Klängen in den Bann zu ziehen\, die man zunächst der Flöte nicht zutraut\, die aber ihrer Ansicht nach erst die Erfüllung bedeuteten\, was das Instrument seit Jahrhunderten längst versprach. Neben reinen Flöten-Solo-Konzerten gab es die Kombination mit Klavier oder Orgel oder bei Alter Musik mit Cembalo und Gambe. Besonders denkwürdig war ein Abend für zwei Soloflöten\, der nur die neueste Musik\, darunter viele europäische Erstaufführungen darbot. Die Flöte – das Instrument der unbegrenzten Möglichkeiten! Wir freuen uns\, in diesem Jahr mit Jennifer Seubel und Simone Mentzen gleich zwei Meisterinnen der Flöte präsentieren zu können. Auf dem Programm der beiden Solistinnen stehen Werke unterschiedlicher Epochen\, denen gemein ist\, dass sie das Potential des Instrumentes auf spannende Weise auszunutzen verstehen.
CLASS:PUBLIC
DTSTART:20260811T180000Z
DTEND:20260811T190000Z
DTSTAMP:20260419T144254Z
END:VEVENT

END:VCALENDAR