BEGIN:VCALENDAR
VERSION:2.0
PRODID:nkc_event TYPO3 Extension
METHOD:PUBLISH
BEGIN:VEVENT
UID:267f2d0debbd02a6fffb09a7e5d698d3
LOCATION:Hl Dreieinigkeitskirche (St. Georgskirche)
SUMMARY:Kirchenöffnung zur Ausstellung This is me! - Queer und religiös?
DESCRIPTION:
CLASS:PUBLIC
DTSTART:20260530T100000Z
DTEND:20260530T120000Z
DTSTAMP:20260420T152241Z
END:VEVENT

END:VCALENDAR