BEGIN:VCALENDAR
VERSION:2.0
PRODID:nkc_event TYPO3 Extension
METHOD:PUBLISH
BEGIN:VEVENT
UID:843b404abfe54ae3b443ac0ec00fda1e
LOCATION:Waldkirche im Hüttener Forst
SUMMARY:Plattdeutscher Himmelfahrtsgottesdienst im Hüttener Forst\, Pastor i.R. Martin Hansen\, anschl. Erbsensuppe und Getränke
DESCRIPTION:
CLASS:PUBLIC
DTSTART:20260514T083000Z
DTEND:20260514T093000Z
DTSTAMP:20260425T110712Z
END:VEVENT

END:VCALENDAR