BEGIN:VCALENDAR
VERSION:2.0
PRODID:nkc_event TYPO3 Extension
METHOD:PUBLISH
BEGIN:VEVENT
UID:4890cc0b863d045efeefcd1cdaf289d4
LOCATION:Kirche Handewitt
SUMMARY:Konfirmation
DESCRIPTION:
CLASS:PUBLIC
DTSTART:20260425T080000Z
DTEND:20260425T090000Z
DTSTAMP:20260424T094924Z
END:VEVENT

END:VCALENDAR