BEGIN:VCALENDAR
VERSION:2.0
PRODID:nkc_event TYPO3 Extension
METHOD:PUBLISH
BEGIN:VEVENT
UID:49e9d0bdc33a5c288e630dc5b684b50d
LOCATION:Offene Kirche St. Nikolai in Kiel
SUMMARY:Die Halbe Stunde
DESCRIPTION:Vielfältige Konzertreihe von Musik aller Stile und Epochen.Wöchentlich wechselnde Künstler*innen und wechselndes Programm. Der Eintritt ist frei.
CLASS:PUBLIC
DTSTART:20260429T150000Z
DTEND:20260429T153000Z
DTSTAMP:20260424T122424Z
END:VEVENT

END:VCALENDAR