BEGIN:VCALENDAR
VERSION:2.0
PRODID:nkc_event TYPO3 Extension
METHOD:PUBLISH
BEGIN:VEVENT
UID:a5001d4ada1d3e0d9eb780fcebfbf5d4
LOCATION:Gemeindehaus II
SUMMARY:ABENTEUERLAND
DESCRIPTION:
CLASS:PUBLIC
DTSTART:20260522T133000Z
DTEND:20260522T143000Z
DTSTAMP:20260425T112306Z
END:VEVENT

END:VCALENDAR