BEGIN:VCALENDAR
VERSION:2.0
PRODID:nkc_event TYPO3 Extension
METHOD:PUBLISH
BEGIN:VEVENT
UID:8629eae3fdac4f9778da9fd3333b298a
LOCATION:Gemeindehaus I
SUMMARY:Kinderchor ab 5 Jahren
DESCRIPTION:
CLASS:PUBLIC
DTSTART:20260521T133000Z
DTEND:20260521T143000Z
DTSTAMP:20260420T080724Z
END:VEVENT

END:VCALENDAR