BEGIN:VCALENDAR
VERSION:2.0
PRODID:nkc_event TYPO3 Extension
METHOD:PUBLISH
BEGIN:VEVENT
UID:41a92277b3dcc5fc3b72452e3991f960
LOCATION:Fichtenhof Rickling\, Freizeitheim des Landesvereins
SUMMARY:Eintauchen in die Welt der Gefühle
DESCRIPTION:Wer kennt es nicht – irgendetwas „triggert“ einen\, die inneren Wellen gehen hoch oder plötzlich fühlt man sich wie gelähmt. Hinterher fragt man sich\, wie das passieren konnte oder warum einem das immer wieder begegnet.Überhaupt – wie umgehen mit all dem\, was gerade in der Welt los ist – mit Gefühlen von Ohnmacht und Angst\, von Verzweiflung\, Wut und Protest. Wie ist es möglich\, angesichts all dessen\, weder gleichgültig noch unter Dauerstress zu leben?In ihrem Buch":" „Der emotionale Rucksack - Wie wir mit ungesunden Gefühlen aufräumen“\, stellt Vivian Dittmar ein Modell vor\, das auf überzeugende Weise einen hilfreichen Weg durch diesen scheinbar undurchdringlichen Dschungel zeigt. Die Erkenntnisse dieser bekannten Fachfrau auf dem Feld der Gefühle und Emotionen bilden die Grundlage dieses Seminars.
CLASS:PUBLIC
DTSTART:20261002T140000Z
DTEND:20261004T110000Z
DTSTAMP:20260419T150220Z
END:VEVENT

END:VCALENDAR