BEGIN:VCALENDAR
VERSION:2.0
PRODID:nkc_event TYPO3 Extension
METHOD:PUBLISH
BEGIN:VEVENT
UID:a09cd36a4d0e8eb1877ac4b9b96b405b
LOCATION:Vicelinkirche
SUMMARY:Gottesdienst am anderen Ort
DESCRIPTION:Gottesdienst am anderen Ort. Ein Taxi erwartet Sie um 09.30 Uhr und fährt Sie zum Gottesdienst und zurück.
CLASS:PUBLIC
DTSTART:20260426T080000Z
DTEND:20260426T090000Z
DTSTAMP:20260423T122303Z
END:VEVENT

END:VCALENDAR