BEGIN:VCALENDAR
VERSION:2.0
PRODID:nkc_event TYPO3 Extension
METHOD:PUBLISH
BEGIN:VEVENT
UID:1d0b415abbfa1e7bff593b1fbf89e904
LOCATION:St. Andreas Kirche Haddeby
SUMMARY:Gottesdienst (Exaudi)
DESCRIPTION:
CLASS:PUBLIC
DTSTART:20260517T080000Z
DTEND:20260517T090000Z
DTSTAMP:20260422T014747Z
END:VEVENT

END:VCALENDAR