BEGIN:VCALENDAR
VERSION:2.0
PRODID:nkc_event TYPO3 Extension
METHOD:PUBLISH
BEGIN:VEVENT
UID:b10db3920e1f7293b9fab1c78dd0199d
LOCATION:Gemeindehaus II
SUMMARY:ABENTEUERLAND
DESCRIPTION:
CLASS:PUBLIC
DTSTART:20260724T133000Z
DTEND:20260724T143000Z
DTSTAMP:20260425T112106Z
END:VEVENT

END:VCALENDAR