BEGIN:VCALENDAR
VERSION:2.0
PRODID:nkc_event TYPO3 Extension
METHOD:PUBLISH
BEGIN:VEVENT
UID:efc170826a4d2f1abb77f5c582654a78
LOCATION:Dom zu Lübeck
SUMMARY:Taizégottesdienst mit Pastor Martin Klatt
DESCRIPTION:Meine Seele ist stille zu Gott\, der mir hilft. Abendgottesdienst mit Taizégesängen\, Zeit der Stille\, Gebet. Aktuelle Informationen zu allen Gottesdiensten finden Sie auf der Internetseite des Doms. 
CLASS:PUBLIC
DTSTART:20260717T180000Z
DTEND:20260717T190000Z
DTSTAMP:20260419T183426Z
END:VEVENT

END:VCALENDAR