BEGIN:VCALENDAR
VERSION:2.0
PRODID:nkc_event TYPO3 Extension
METHOD:PUBLISH
BEGIN:VEVENT
UID:8acb8b6139e0320a00dbdfc087caed0d
LOCATION:Hauptkirche St. Jacobi
SUMMARY:Arp-Schnitger-Orgelführung
DESCRIPTION:
CLASS:PUBLIC
DTSTART:20260702T100000Z
DTEND:20260702T110000Z
DTSTAMP:20260420T180847Z
END:VEVENT

END:VCALENDAR