BEGIN:VCALENDAR
VERSION:2.0
PRODID:nkc_event TYPO3 Extension
METHOD:PUBLISH
BEGIN:VEVENT
UID:fffcf35fc6704d9c19712a40f621873b
LOCATION:Friedenskirche
SUMMARY:Echo of Dance
DESCRIPTION:Das Duo AssaiMovere spielt Klassik\, Tango\, Jazz\, Pop und Crossover!Asiia Garipova - Violine / Mihail Cunetchi - AkkordeonHerzlich willkommen in der Kisdorfer Friedenskirche!PS":" Das ursprünglich in unserem Programm angekündigte Konzert mit Lucja Jaskula (Bratsche) wird durch dieses Programm ersetzt. Wir bitten um Verständnis.
CLASS:PUBLIC
DTSTART:20260426T150000Z
DTEND:20260426T160000Z
DTSTAMP:20260425T185854Z
END:VEVENT

END:VCALENDAR