BEGIN:VCALENDAR
VERSION:2.0
PRODID:nkc_event TYPO3 Extension
METHOD:PUBLISH
BEGIN:VEVENT
UID:9c7ca3f978716332744f2ad88082130b
LOCATION:St. Marien-Kirche
SUMMARY:Gottesdienst in der St. Marien-Kirche
DESCRIPTION: 
CLASS:PUBLIC
DTSTART:20260426T090000Z
DTEND:20260426T100000Z
DTSTAMP:20260425T221558Z
END:VEVENT

END:VCALENDAR