BEGIN:VCALENDAR
VERSION:2.0
PRODID:nkc_event TYPO3 Extension
METHOD:PUBLISH
BEGIN:VEVENT
UID:f23f3db36287c4957d51c6b21def78cf
LOCATION:https://www.youtube.com/channel/UCBo-WkPXb_39N1EjFLh9n1A
SUMMARY:Pfadfinder-Aussende-Sommergottesdienst
DESCRIPTION:Alle sind herzlich eingeladen\, mit uns Gottesdienst zu feiernBei gutem Wetter findet der Gottesdienst im Gemeindegarten statt mit anschließendem Sommerfest bei Mitbringbuffett
CLASS:PUBLIC
DTSTART:20260628T090000Z
DTEND:20260628T100000Z
DTSTAMP:20260425T160050Z
END:VEVENT

END:VCALENDAR