BEGIN:VCALENDAR
VERSION:2.0
PRODID:nkc_event TYPO3 Extension
METHOD:PUBLISH
BEGIN:VEVENT
UID:a93ab72e3ed946c43b9a272f7305687f
LOCATION:St. Marien-Kirche
SUMMARY:Gottesdienst in der St. Marien-Kirche
DESCRIPTION: 
CLASS:PUBLIC
DTSTART:20260503T090000Z
DTEND:20260503T100000Z
DTSTAMP:20260425T220658Z
END:VEVENT

END:VCALENDAR