BEGIN:VCALENDAR
VERSION:2.0
PRODID:nkc_event TYPO3 Extension
METHOD:PUBLISH
BEGIN:VEVENT
UID:071f3b3bd5220339412f38bd0c6ddba7
LOCATION:Lutherkirche Kiel
SUMMARY:Abendsegen
DESCRIPTION:
CLASS:PUBLIC
DTSTART:20260423T160000Z
DTEND:20260423T164500Z
DTSTAMP:20260423T113906Z
END:VEVENT

END:VCALENDAR