BEGIN:VCALENDAR
VERSION:2.0
PRODID:nkc_event TYPO3 Extension
METHOD:PUBLISH
BEGIN:VEVENT
UID:613781db9468b5eae18bdf5e369ecd58
LOCATION:St. Andreas Kirche Haddeby
SUMMARY:Farvenspeel
DESCRIPTION:
CLASS:PUBLIC
DTSTART:20260612T180000Z
DTEND:20260612T190000Z
DTSTAMP:20260422T013821Z
END:VEVENT

END:VCALENDAR