BEGIN:VCALENDAR
VERSION:2.0
PRODID:nkc_event TYPO3 Extension
METHOD:PUBLISH
BEGIN:VEVENT
UID:07eb6e60d3e06691a4cea962850f7577
LOCATION:Marienkirche Grundhof
SUMMARY:Gottesdienst der Förderegion mit den Pastor*innen Sabrina Biehl\, Thorsten Kelm und Norbert Siemen
DESCRIPTION:
CLASS:PUBLIC
DTSTART:20260830T090000Z
DTEND:20260830T100000Z
DTSTAMP:20260426T021936Z
END:VEVENT

END:VCALENDAR